BEGIN:VCALENDAR
VERSION:2.0
PRODID:-//ASCIP - ECPv6.0.13.1//NONSGML v1.0//EN
CALSCALE:GREGORIAN
METHOD:PUBLISH
X-ORIGINAL-URL:https://webdev.ascip.org
X-WR-CALDESC:Events for ASCIP
REFRESH-INTERVAL;VALUE=DURATION:PT1H
X-Robots-Tag:noindex
X-PUBLISHED-TTL:PT1H
BEGIN:VTIMEZONE
TZID:America/Halifax
BEGIN:DAYLIGHT
TZOFFSETFROM:-0400
TZOFFSETTO:-0300
TZNAME:ADT
DTSTART:20190310T060000
END:DAYLIGHT
BEGIN:STANDARD
TZOFFSETFROM:-0300
TZOFFSETTO:-0400
TZNAME:AST
DTSTART:20191103T050000
END:STANDARD
END:VTIMEZONE
BEGIN:VEVENT
DTSTART;TZID=America/Halifax:20190502T100000
DTEND;TZID=America/Halifax:20190502T113000
DTSTAMP:20260419T050326
CREATED:20181009T002527Z
LAST-MODIFIED:20181009T002527Z
UID:1015981-1556791200-1556796600@webdev.ascip.org
SUMMARY:Indoor Heat Illness Prevention - Webinar
DESCRIPTION:By January 1\, 2019\, Cal/OSHA is set to propose standard CCR T8 6720 that minimizes heat-related illness and injury to workers working in indoor places of employment. This new standard is based on environmental temperatures\, work activity\, and other factors. \nThis webinar will summarize and cover key points of the standard. \nClick here to REGISTER
URL:https://webdev.ascip.org/event/indoor-heat-illness-prevention-webinar-2/
LOCATION:Webinar
CATEGORIES:Featured,Training
END:VEVENT
BEGIN:VEVENT
DTSTART;TZID=America/Halifax:20190502T100000
DTEND;TZID=America/Halifax:20190502T113000
DTSTAMP:20260419T050326
CREATED:20181009T002527Z
LAST-MODIFIED:20181009T002527Z
UID:1014551-1556791200-1556796600@webdev.ascip.org
SUMMARY:Indoor Heat Illness Prevention - Webinar
DESCRIPTION:By January 1\, 2019\, Cal/OSHA is set to propose standard CCR T8 6720 that minimizes heat-related illness and injury to workers working in indoor places of employment. This new standard is based on environmental temperatures\, work activity\, and other factors. \nThis webinar will summarize and cover key points of the standard. \nClick here to REGISTER
URL:https://webdev.ascip.org/event/indoor-heat-illness-prevention-webinar/
LOCATION:Webinar
CATEGORIES:Featured,Training
END:VEVENT
BEGIN:VEVENT
DTSTART;TZID=America/Halifax:20190509T113000
DTEND;TZID=America/Halifax:20190509T130000
DTSTAMP:20260419T050326
CREATED:20181009T000530Z
LAST-MODIFIED:20181009T000530Z
UID:1015980-1557401400-1557406800@webdev.ascip.org
SUMMARY:HR Roundtable-Misconduct Investigations
DESCRIPTION:Target Audience: \nHuman Resource Professionals and Risk Managers\, and any management staff personnel who wish to hear about\, review and ask questions about current HR issues and strategies for avoiding litigation. \nTrainer:\n \nKristine Kwong\, Musick\, Peeler & Garrett \nHow to Register:  \nEmail Kimberly Kennedy at kennedy@ascip.org \nAdditional Information: \nLunch will be provided. \nThis will be a one-hour seminar on Human Resources (HR) issues\, followed by general discussion and time allowed for Questions & Answers.
URL:https://webdev.ascip.org/event/hr-roundtable-common-mistakes-in-addressing-substance-abuse-in-the-workplace-2/
LOCATION:ASCIP Training Room\, 16550 Bloomfield Ave\, Cerritos\, 90703
CATEGORIES:Training
END:VEVENT
BEGIN:VEVENT
DTSTART;TZID=America/Halifax:20190509T113000
DTEND;TZID=America/Halifax:20190509T130000
DTSTAMP:20260419T050326
CREATED:20181009T000530Z
LAST-MODIFIED:20181009T000530Z
UID:1014549-1557401400-1557406800@webdev.ascip.org
SUMMARY:HR Roundtable-Misconduct Investigations
DESCRIPTION:Target Audience: \nHuman Resource Professionals and Risk Managers\, and any management staff personnel who wish to hear about\, review and ask questions about current HR issues and strategies for avoiding litigation. \nTrainer:\n \nKristine Kwong\, Musick\, Peeler & Garrett \nHow to Register:  \nEmail Kimberly Kennedy at kennedy@ascip.org \nAdditional Information: \nLunch will be provided. \nThis will be a one-hour seminar on Human Resources (HR) issues\, followed by general discussion and time allowed for Questions & Answers.
URL:https://webdev.ascip.org/event/hr-roundtable-common-mistakes-in-addressing-substance-abuse-in-the-workplace/
LOCATION:ASCIP Training Room\, 16550 Bloomfield Ave\, Cerritos\, 90703
CATEGORIES:Training
END:VEVENT
BEGIN:VEVENT
DTSTART;TZID=America/Halifax:20190516T100000
DTEND;TZID=America/Halifax:20190516T120000
DTSTAMP:20260419T050326
CREATED:20180410T171346Z
LAST-MODIFIED:20180410T171346Z
UID:6366-1558000800-1558008000@webdev.ascip.org
SUMMARY:Risk Control Committee
DESCRIPTION:
URL:https://webdev.ascip.org/event/risk-control-committee-22-2/
LOCATION:ASCIP Board Room
CATEGORIES:Committee Meeting
END:VEVENT
BEGIN:VEVENT
DTSTART;TZID=America/Halifax:20190516T100000
DTEND;TZID=America/Halifax:20190516T120000
DTSTAMP:20260419T050326
CREATED:20180410T171346Z
LAST-MODIFIED:20180410T171346Z
UID:1014524-1558000800-1558008000@webdev.ascip.org
SUMMARY:Risk Control Committee
DESCRIPTION:
URL:https://webdev.ascip.org/event/risk-control-committee-22/
LOCATION:ASCIP Board Room
CATEGORIES:Committee Meeting
END:VEVENT
BEGIN:VEVENT
DTSTART;TZID=America/Halifax:20190522T090000
DTEND;TZID=America/Halifax:20190522T103000
DTSTAMP:20260419T050326
CREATED:20181127T020743Z
LAST-MODIFIED:20181127T020743Z
UID:1015984-1558515600-1558521000@webdev.ascip.org
SUMMARY:Health Benefits Committee
DESCRIPTION:
URL:https://webdev.ascip.org/event/health-benefits-committee-16-2/
LOCATION:ASCIP Board Room
CATEGORIES:Committee Meeting
END:VEVENT
BEGIN:VEVENT
DTSTART;TZID=America/Halifax:20190522T090000
DTEND;TZID=America/Halifax:20190522T103000
DTSTAMP:20260419T050326
CREATED:20181127T020743Z
LAST-MODIFIED:20181127T020743Z
UID:1014555-1558515600-1558521000@webdev.ascip.org
SUMMARY:Health Benefits Committee
DESCRIPTION:
URL:https://webdev.ascip.org/event/health-benefits-committee-16/
LOCATION:ASCIP Board Room
CATEGORIES:Committee Meeting
END:VEVENT
BEGIN:VEVENT
DTSTART;TZID=America/Halifax:20190530T083000
DTEND;TZID=America/Halifax:20190530T093000
DTSTAMP:20260419T050326
CREATED:20180410T170657Z
LAST-MODIFIED:20180410T170657Z
UID:1014518-1559205000-1559208600@webdev.ascip.org
SUMMARY:Claims and Coverage Committee
DESCRIPTION:
URL:https://webdev.ascip.org/event/claims-and-coverage-committee-8/
LOCATION:ASCIP Board Room
CATEGORIES:Committee Meeting
END:VEVENT
BEGIN:VEVENT
DTSTART;TZID=America/Halifax:20190530T083000
DTEND;TZID=America/Halifax:20190530T093000
DTSTAMP:20260419T050326
CREATED:20180410T170657Z
LAST-MODIFIED:20180410T170657Z
UID:6354-1559205000-1559208600@webdev.ascip.org
SUMMARY:Claims and Coverage Committee
DESCRIPTION:
URL:https://webdev.ascip.org/event/claims-and-coverage-committee-8-2/
LOCATION:ASCIP Board Room
CATEGORIES:Committee Meeting
END:VEVENT
BEGIN:VEVENT
DTSTART;TZID=America/Halifax:20190530T100000
DTEND;TZID=America/Halifax:20190530T120000
DTSTAMP:20260419T050326
CREATED:20180410T032706Z
LAST-MODIFIED:20180410T032706Z
UID:1014507-1559210400-1559217600@webdev.ascip.org
SUMMARY:Executive Committee
DESCRIPTION:
URL:https://webdev.ascip.org/event/executive-committee-19/
LOCATION:ASCIP Board Room
CATEGORIES:Committee Meeting
END:VEVENT
BEGIN:VEVENT
DTSTART;TZID=America/Halifax:20190530T100000
DTEND;TZID=America/Halifax:20190530T120000
DTSTAMP:20260419T050326
CREATED:20180410T032706Z
LAST-MODIFIED:20180410T032706Z
UID:6332-1559210400-1559217600@webdev.ascip.org
SUMMARY:Executive Committee
DESCRIPTION:
URL:https://webdev.ascip.org/event/executive-committee-19-2/
LOCATION:ASCIP Board Room
CATEGORIES:Committee Meeting
END:VEVENT
END:VCALENDAR