BEGIN:VCALENDAR
VERSION:2.0
PRODID:-//ASCIP - ECPv6.0.13.1//NONSGML v1.0//EN
CALSCALE:GREGORIAN
METHOD:PUBLISH
X-ORIGINAL-URL:https://webdev.ascip.org
X-WR-CALDESC:Events for ASCIP
REFRESH-INTERVAL;VALUE=DURATION:PT1H
X-Robots-Tag:noindex
X-PUBLISHED-TTL:PT1H
BEGIN:VTIMEZONE
TZID:America/Halifax
BEGIN:DAYLIGHT
TZOFFSETFROM:-0400
TZOFFSETTO:-0300
TZNAME:ADT
DTSTART:20180311T060000
END:DAYLIGHT
BEGIN:STANDARD
TZOFFSETFROM:-0300
TZOFFSETTO:-0400
TZNAME:AST
DTSTART:20181104T050000
END:STANDARD
END:VTIMEZONE
BEGIN:VEVENT
DTSTART;TZID=America/Halifax:20181101T113000
DTEND;TZID=America/Halifax:20181101T130000
DTSTAMP:20260421T045315
CREATED:20180926T033340Z
LAST-MODIFIED:20180926T033340Z
UID:6634-1541071800-1541077200@webdev.ascip.org
SUMMARY:HR Roundtable: Weed in the Workplace
DESCRIPTION:Target Audience: \nHuman Resource Professionals and Risk Managers\, and any management staff personnel who wish to hear about\, review and ask questions about possible unrecognized hiring bias’. \nTrainer:\n \nKristine Kwong\, Musick\, Peeler & Garrett \nHow to Register:  \nEmail Kimberly Kennedy at kennedy@ascip.org \nAdditional Information: \nLunch will be provided. \nThis will be a one hour seminar on Human Resources (HR) issues\, followed by general discussion and time allowed for Questions & Answers.  Human Resource professionals are encouraged to come prepared to discuss current HR issues and strategies for avoiding litigation.
URL:https://webdev.ascip.org/event/hr-roundtable-weed-in-the-workplace-2/
LOCATION:ASCIP Training Room\, 16550 Bloomfield Ave\, Cerritos\, 90703
CATEGORIES:Training
END:VEVENT
BEGIN:VEVENT
DTSTART;TZID=America/Halifax:20181101T113000
DTEND;TZID=America/Halifax:20181101T130000
DTSTAMP:20260421T045315
CREATED:20180926T033340Z
LAST-MODIFIED:20180926T033340Z
UID:1014535-1541071800-1541077200@webdev.ascip.org
SUMMARY:HR Roundtable: Weed in the Workplace
DESCRIPTION:Target Audience: \nHuman Resource Professionals and Risk Managers\, and any management staff personnel who wish to hear about\, review and ask questions about possible unrecognized hiring bias’. \nTrainer:\n \nKristine Kwong\, Musick\, Peeler & Garrett \nHow to Register:  \nEmail Kimberly Kennedy at kennedy@ascip.org \nAdditional Information: \nLunch will be provided. \nThis will be a one hour seminar on Human Resources (HR) issues\, followed by general discussion and time allowed for Questions & Answers.  Human Resource professionals are encouraged to come prepared to discuss current HR issues and strategies for avoiding litigation.
URL:https://webdev.ascip.org/event/hr-roundtable-weed-in-the-workplace/
LOCATION:ASCIP Training Room\, 16550 Bloomfield Ave\, Cerritos\, 90703
CATEGORIES:Training
END:VEVENT
BEGIN:VEVENT
DTSTART;VALUE=DATE:20181107
DTEND;VALUE=DATE:20181109
DTSTAMP:20260421T045315
CREATED:20180410T033957Z
LAST-MODIFIED:20180410T033957Z
UID:1014509-1541548800-1541721599@webdev.ascip.org
SUMMARY:ASCIP's Executive Committee Strategic Planning
DESCRIPTION:
URL:https://webdev.ascip.org/event/ascips-executive-committee-strategic-planning-2/
LOCATION:TBD
CATEGORIES:Committee Meeting
END:VEVENT
BEGIN:VEVENT
DTSTART;VALUE=DATE:20181107
DTEND;VALUE=DATE:20181109
DTSTAMP:20260421T045315
CREATED:20180410T033957Z
LAST-MODIFIED:20180410T033957Z
UID:6336-1541548800-1541721599@webdev.ascip.org
SUMMARY:ASCIP's Executive Committee Strategic Planning
DESCRIPTION:
URL:https://webdev.ascip.org/event/ascips-executive-committee-strategic-planning-2-2/
LOCATION:TBD
CATEGORIES:Committee Meeting
END:VEVENT
BEGIN:VEVENT
DTSTART;TZID=America/Halifax:20181109T090000
DTEND;TZID=America/Halifax:20181109T110000
DTSTAMP:20260421T045315
CREATED:20180409T173359Z
LAST-MODIFIED:20180409T173359Z
UID:6322-1541754000-1541761200@webdev.ascip.org
SUMMARY:Executive Committee
DESCRIPTION:
URL:https://webdev.ascip.org/event/executive-committee-14-2/
LOCATION:TBD
CATEGORIES:Committee Meeting
END:VEVENT
BEGIN:VEVENT
DTSTART;TZID=America/Halifax:20181109T090000
DTEND;TZID=America/Halifax:20181109T110000
DTSTAMP:20260421T045315
CREATED:20180409T173359Z
LAST-MODIFIED:20180409T173359Z
UID:1014502-1541754000-1541761200@webdev.ascip.org
SUMMARY:Executive Committee
DESCRIPTION:
URL:https://webdev.ascip.org/event/executive-committee-14/
LOCATION:TBD
CATEGORIES:Committee Meeting
END:VEVENT
BEGIN:VEVENT
DTSTART;TZID=America/Halifax:20181113T100000
DTEND;TZID=America/Halifax:20181113T120000
DTSTAMP:20260421T045315
CREATED:20180926T033555Z
LAST-MODIFIED:20180926T033555Z
UID:6636-1542103200-1542110400@webdev.ascip.org
SUMMARY:ASCIP’s Annual Codes\, Regulations\, and Compliance Review - WEBINAR
DESCRIPTION:ASCIP has collaborated with Schools Services of California\, Inc. (SSC) and School Excess Liability Fund (SELF) to provide an update on the new legislative changes which will affect your agency. \nRegister Here
URL:https://webdev.ascip.org/event/ascips-annual-codes-regulations-and-compliance-review-webinar-4-2/
LOCATION:Webinar
CATEGORIES:Featured,Training
END:VEVENT
BEGIN:VEVENT
DTSTART;TZID=America/Halifax:20181113T100000
DTEND;TZID=America/Halifax:20181113T120000
DTSTAMP:20260421T045315
CREATED:20180926T033555Z
LAST-MODIFIED:20180926T033555Z
UID:1014536-1542103200-1542110400@webdev.ascip.org
SUMMARY:ASCIP’s Annual Codes\, Regulations\, and Compliance Review - WEBINAR
DESCRIPTION:ASCIP has collaborated with Schools Services of California\, Inc. (SSC) and School Excess Liability Fund (SELF) to provide an update on the new legislative changes which will affect your agency. \nRegister Here
URL:https://webdev.ascip.org/event/ascips-annual-codes-regulations-and-compliance-review-webinar-4/
LOCATION:Webinar
CATEGORIES:Featured,Training
END:VEVENT
BEGIN:VEVENT
DTSTART;TZID=America/Halifax:20181114T083000
DTEND;TZID=America/Halifax:20181114T100000
DTSTAMP:20260421T045315
CREATED:20181127T020431Z
LAST-MODIFIED:20181127T020431Z
UID:1015982-1542184200-1542189600@webdev.ascip.org
SUMMARY:Health Benefits Committee
DESCRIPTION:
URL:https://webdev.ascip.org/event/health-benefits-committee-14-2/
LOCATION:ASCIP Board Room
CATEGORIES:Committee Meeting
END:VEVENT
BEGIN:VEVENT
DTSTART;TZID=America/Halifax:20181114T083000
DTEND;TZID=America/Halifax:20181114T100000
DTSTAMP:20260421T045315
CREATED:20181127T020431Z
LAST-MODIFIED:20181127T020431Z
UID:1014553-1542184200-1542189600@webdev.ascip.org
SUMMARY:Health Benefits Committee
DESCRIPTION:
URL:https://webdev.ascip.org/event/health-benefits-committee-14/
LOCATION:ASCIP Board Room
CATEGORIES:Committee Meeting
END:VEVENT
BEGIN:VEVENT
DTSTART;TZID=America/Halifax:20181114T100000
DTEND;TZID=America/Halifax:20181114T120000
DTSTAMP:20260421T045315
CREATED:20180410T171038Z
LAST-MODIFIED:20180410T171038Z
UID:6360-1542189600-1542196800@webdev.ascip.org
SUMMARY:Risk Control Committee
DESCRIPTION:
URL:https://webdev.ascip.org/event/risk-control-committee-19-2/
LOCATION:ASCIP Board Room
CATEGORIES:Committee Meeting
END:VEVENT
BEGIN:VEVENT
DTSTART;TZID=America/Halifax:20181114T100000
DTEND;TZID=America/Halifax:20181114T120000
DTSTAMP:20260421T045315
CREATED:20180410T171038Z
LAST-MODIFIED:20180410T171038Z
UID:1014521-1542189600-1542196800@webdev.ascip.org
SUMMARY:Risk Control Committee
DESCRIPTION:
URL:https://webdev.ascip.org/event/risk-control-committee-19/
LOCATION:ASCIP Board Room
CATEGORIES:Committee Meeting
END:VEVENT
BEGIN:VEVENT
DTSTART;TZID=America/Halifax:20181120T103000
DTEND;TZID=America/Halifax:20181120T120000
DTSTAMP:20260421T045315
CREATED:20181127T021401Z
LAST-MODIFIED:20181127T021401Z
UID:1015986-1542709800-1542715200@webdev.ascip.org
SUMMARY:Finance Committee
DESCRIPTION:
URL:https://webdev.ascip.org/event/finance-committee-2-2/
LOCATION:ASCIP Board Room
CATEGORIES:Committee Meeting
END:VEVENT
BEGIN:VEVENT
DTSTART;TZID=America/Halifax:20181120T103000
DTEND;TZID=America/Halifax:20181120T120000
DTSTAMP:20260421T045315
CREATED:20181127T021401Z
LAST-MODIFIED:20181127T021401Z
UID:1014557-1542709800-1542715200@webdev.ascip.org
SUMMARY:Finance Committee
DESCRIPTION:
URL:https://webdev.ascip.org/event/finance-committee-2/
LOCATION:ASCIP Board Room
CATEGORIES:Committee Meeting
END:VEVENT
END:VCALENDAR