BEGIN:VCALENDAR
VERSION:2.0
PRODID:-//ASCIP - ECPv6.0.13.1//NONSGML v1.0//EN
CALSCALE:GREGORIAN
METHOD:PUBLISH
X-ORIGINAL-URL:https://webdev.ascip.org
X-WR-CALDESC:Events for ASCIP
REFRESH-INTERVAL;VALUE=DURATION:PT1H
X-Robots-Tag:noindex
X-PUBLISHED-TTL:PT1H
BEGIN:VTIMEZONE
TZID:America/Halifax
BEGIN:DAYLIGHT
TZOFFSETFROM:-0400
TZOFFSETTO:-0300
TZNAME:ADT
DTSTART:20180311T060000
END:DAYLIGHT
BEGIN:STANDARD
TZOFFSETFROM:-0300
TZOFFSETTO:-0400
TZNAME:AST
DTSTART:20181104T050000
END:STANDARD
END:VTIMEZONE
BEGIN:VEVENT
DTSTART;TZID=America/Halifax:20180207T093000
DTEND;TZID=America/Halifax:20180207T130000
DTSTAMP:20260423T034806
CREATED:20171216T044423Z
LAST-MODIFIED:20171216T044423Z
UID:1014499-1517995800-1518008400@webdev.ascip.org
SUMMARY:Workers' Compensation Roundtable (So Cal): "FRAUD: A Bad Word If You Don't Fight It"
DESCRIPTION:Target Audience: \nRisk Management\, Workers’ Compensation\, Human Resources and Business Personnel. \nTrainer:\n \nJennifer Lentz Snyder\, Head Deputy\, Healthcare Fraud Division\, Los Angeles District Attorney’s Office \nMike Gomez\, Vice President\, RJN Investigations \nHow to Register:  \nEmail Kimberly Kennedy at kennedy@ascip.org by February 1st. \nAdditional Information: \nLunch will be provided. \nPlease join us at the Workers’ Compensation Roundtable to learn how to recognize fraud and learn what is required from the District Attorney’s Office to prosecute individuals and providers who attempt to defraud the Workers’ Compensation system. Please come prepared with examples and questions to roundtable with Ms. Snyder from the District Attorney’s office. \nAs always\, there is no charge to ASCIP members or our invited guests to attend this training.
URL:https://webdev.ascip.org/event/workers-compensation-roundtable-so-cal-fraud-a-bad-word-if-you-dont-fight-it/
LOCATION:ASCIP Training Room\, 16550 Bloomfield Ave\, Cerritos\, 90703
CATEGORIES:Training
END:VEVENT
BEGIN:VEVENT
DTSTART;TZID=America/Halifax:20180207T093000
DTEND;TZID=America/Halifax:20180207T130000
DTSTAMP:20260423T034806
CREATED:20171216T044423Z
LAST-MODIFIED:20171216T044423Z
UID:6049-1517995800-1518008400@webdev.ascip.org
SUMMARY:Workers' Compensation Roundtable (So Cal): "FRAUD: A Bad Word If You Don't Fight It"
DESCRIPTION:Target Audience: \nRisk Management\, Workers’ Compensation\, Human Resources and Business Personnel. \nTrainer:\n \nJennifer Lentz Snyder\, Head Deputy\, Healthcare Fraud Division\, Los Angeles District Attorney’s Office \nMike Gomez\, Vice President\, RJN Investigations \nHow to Register:  \nEmail Kimberly Kennedy at kennedy@ascip.org by February 1st. \nAdditional Information: \nLunch will be provided. \nPlease join us at the Workers’ Compensation Roundtable to learn how to recognize fraud and learn what is required from the District Attorney’s Office to prosecute individuals and providers who attempt to defraud the Workers’ Compensation system. Please come prepared with examples and questions to roundtable with Ms. Snyder from the District Attorney’s office. \nAs always\, there is no charge to ASCIP members or our invited guests to attend this training.
URL:https://webdev.ascip.org/event/workers-compensation-roundtable-so-cal-fraud-a-bad-word-if-you-dont-fight-it-2/
LOCATION:ASCIP Training Room\, 16550 Bloomfield Ave\, Cerritos\, 90703
CATEGORIES:Training
END:VEVENT
END:VCALENDAR