BEGIN:VCALENDAR
VERSION:2.0
PRODID:-//ASCIP - ECPv6.0.13.1//NONSGML v1.0//EN
CALSCALE:GREGORIAN
METHOD:PUBLISH
X-ORIGINAL-URL:https://webdev.ascip.org
X-WR-CALDESC:Events for ASCIP
REFRESH-INTERVAL;VALUE=DURATION:PT1H
X-Robots-Tag:noindex
X-PUBLISHED-TTL:PT1H
BEGIN:VTIMEZONE
TZID:America/Halifax
BEGIN:DAYLIGHT
TZOFFSETFROM:-0400
TZOFFSETTO:-0300
TZNAME:ADT
DTSTART:20170312T060000
END:DAYLIGHT
BEGIN:STANDARD
TZOFFSETFROM:-0300
TZOFFSETTO:-0400
TZNAME:AST
DTSTART:20171105T050000
END:STANDARD
END:VTIMEZONE
BEGIN:VEVENT
DTSTART;TZID=America/Halifax:20171114T100000
DTEND;TZID=America/Halifax:20171114T120000
DTSTAMP:20260420T164808
CREATED:20170828T165048Z
LAST-MODIFIED:20170828T165048Z
UID:5759-1510653600-1510660800@webdev.ascip.org
SUMMARY:ASCIP’s Annual Codes\, Regulations\, and Compliance Review - WEBINAR
DESCRIPTION:ASCIP has collaborated with Schools Services of California\, Inc. (SSC) and School Excess Liability Fund (SELF) to provide an update on the new legislative changes which will affect your agency.
URL:https://webdev.ascip.org/event/ascips-annual-codes-regulations-and-compliance-review-webinar-3-2/
LOCATION:Webinar
CATEGORIES:Featured,Training
END:VEVENT
BEGIN:VEVENT
DTSTART;TZID=America/Halifax:20171114T100000
DTEND;TZID=America/Halifax:20171114T120000
DTSTAMP:20260420T164808
CREATED:20170828T165048Z
LAST-MODIFIED:20170828T165048Z
UID:1014486-1510653600-1510660800@webdev.ascip.org
SUMMARY:ASCIP’s Annual Codes\, Regulations\, and Compliance Review - WEBINAR
DESCRIPTION:ASCIP has collaborated with Schools Services of California\, Inc. (SSC) and School Excess Liability Fund (SELF) to provide an update on the new legislative changes which will affect your agency.
URL:https://webdev.ascip.org/event/ascips-annual-codes-regulations-and-compliance-review-webinar-3/
LOCATION:Webinar
CATEGORIES:Featured,Training
END:VEVENT
END:VCALENDAR