BEGIN:VCALENDAR
VERSION:2.0
PRODID:-//ASCIP - ECPv6.0.13.1//NONSGML v1.0//EN
CALSCALE:GREGORIAN
METHOD:PUBLISH
X-ORIGINAL-URL:https://webdev.ascip.org
X-WR-CALDESC:Events for ASCIP
REFRESH-INTERVAL;VALUE=DURATION:PT1H
X-Robots-Tag:noindex
X-PUBLISHED-TTL:PT1H
BEGIN:VTIMEZONE
TZID:America/Halifax
BEGIN:DAYLIGHT
TZOFFSETFROM:-0400
TZOFFSETTO:-0300
TZNAME:ADT
DTSTART:20170312T060000
END:DAYLIGHT
BEGIN:STANDARD
TZOFFSETFROM:-0300
TZOFFSETTO:-0400
TZNAME:AST
DTSTART:20171105T050000
END:STANDARD
END:VTIMEZONE
BEGIN:VEVENT
DTSTART;TZID=America/Halifax:20170518T100000
DTEND;TZID=America/Halifax:20170518T120000
DTSTAMP:20260421T143915
CREATED:20160908T025315Z
LAST-MODIFIED:20160908T025315Z
UID:3440-1495101600-1495108800@webdev.ascip.org
SUMMARY:What’s in Your Smart Phone?  “Private” Work Communications and Data Preservation - WEBINAR
DESCRIPTION:Employees are sometimes surprised to learn that even their personal phones and other electronic devices may be subject to discovery in the event of a claim or lawsuit.  This webinar will review the rules of electronic preservation of District and personal electronics\, legal responsibilities to collect data\, the data collection process and strategies.
URL:https://webdev.ascip.org/event/whats-in-your-smart-phone-private-work-communications-and-data-preservation-webinar-2/
LOCATION:Webinar
CATEGORIES:Featured,Training
END:VEVENT
BEGIN:VEVENT
DTSTART;TZID=America/Halifax:20170518T100000
DTEND;TZID=America/Halifax:20170518T120000
DTSTAMP:20260421T143915
CREATED:20160908T025315Z
LAST-MODIFIED:20160908T025315Z
UID:1014433-1495101600-1495108800@webdev.ascip.org
SUMMARY:What’s in Your Smart Phone?  “Private” Work Communications and Data Preservation - WEBINAR
DESCRIPTION:Employees are sometimes surprised to learn that even their personal phones and other electronic devices may be subject to discovery in the event of a claim or lawsuit.  This webinar will review the rules of electronic preservation of District and personal electronics\, legal responsibilities to collect data\, the data collection process and strategies.
URL:https://webdev.ascip.org/event/whats-in-your-smart-phone-private-work-communications-and-data-preservation-webinar/
LOCATION:Webinar
CATEGORIES:Featured,Training
END:VEVENT
END:VCALENDAR