BEGIN:VCALENDAR
VERSION:2.0
PRODID:-//ASCIP - ECPv6.0.13.1//NONSGML v1.0//EN
CALSCALE:GREGORIAN
METHOD:PUBLISH
X-ORIGINAL-URL:https://webdev.ascip.org
X-WR-CALDESC:Events for ASCIP
REFRESH-INTERVAL;VALUE=DURATION:PT1H
X-Robots-Tag:noindex
X-PUBLISHED-TTL:PT1H
BEGIN:VTIMEZONE
TZID:America/Halifax
BEGIN:DAYLIGHT
TZOFFSETFROM:-0400
TZOFFSETTO:-0300
TZNAME:ADT
DTSTART:20160313T060000
END:DAYLIGHT
BEGIN:STANDARD
TZOFFSETFROM:-0300
TZOFFSETTO:-0400
TZNAME:AST
DTSTART:20161106T050000
END:STANDARD
END:VTIMEZONE
BEGIN:VEVENT
DTSTART;TZID=America/Halifax:20160525T093000
DTEND;TZID=America/Halifax:20160525T130000
DTSTAMP:20260422T141315
CREATED:20160330T170555Z
LAST-MODIFIED:20160330T170555Z
UID:1014371-1464168600-1464181200@webdev.ascip.org
SUMMARY:Workers’ Compensation Roundtable (So Cal)-Case Law and Legislative Updates
DESCRIPTION:This workshop will be a roundtable discussion of the most important current decisions at the Workers’ Compensation Appeals Board (WCAB) and the impact of the 2012 Reform (SB863).  Pending legislative bills that could affect Workers’ Compensation laws will be presented.  Come prepared to ask questions of our expert panel. \n  \nTarget Audience: \nWorkers’ Compensation & Human Resources Personnel\, Risk & Safety Managers\, Leadership\, Return to Work Coordinators\, and Business Administrators \n  \nExpert Panel:  \n\nCharles Hayford\, Hayford & Felchlin\, LLP (Defense Attorney)\nAdam Dombchick\, Gordon\, Edelstein\, Krepack\, Grant\, Felton & Godstein\, LLP (Applicant Attorney)\n\n  \nHow to Register:  \nEmail Kimberly Kennedy at kennedy@ascip.org by May 12th. \n  \nAdditional Information:  \nLunch will be provided.
URL:https://webdev.ascip.org/event/workers-compensation-roundtable-so-cal-case-law-and-legislative-updates/
LOCATION:ASCIP Training Room\, 16550 Bloomfield Ave\, Cerritos\, 90703
CATEGORIES:Featured,Training
END:VEVENT
BEGIN:VEVENT
DTSTART;TZID=America/Halifax:20160525T093000
DTEND;TZID=America/Halifax:20160525T130000
DTSTAMP:20260422T141315
CREATED:20160330T170555Z
LAST-MODIFIED:20160330T170555Z
UID:2845-1464168600-1464181200@webdev.ascip.org
SUMMARY:Workers’ Compensation Roundtable (So Cal)-Case Law and Legislative Updates
DESCRIPTION:This workshop will be a roundtable discussion of the most important current decisions at the Workers’ Compensation Appeals Board (WCAB) and the impact of the 2012 Reform (SB863).  Pending legislative bills that could affect Workers’ Compensation laws will be presented.  Come prepared to ask questions of our expert panel. \n  \nTarget Audience: \nWorkers’ Compensation & Human Resources Personnel\, Risk & Safety Managers\, Leadership\, Return to Work Coordinators\, and Business Administrators \n  \nExpert Panel:  \n\nCharles Hayford\, Hayford & Felchlin\, LLP (Defense Attorney)\nAdam Dombchick\, Gordon\, Edelstein\, Krepack\, Grant\, Felton & Godstein\, LLP (Applicant Attorney)\n\n  \nHow to Register:  \nEmail Kimberly Kennedy at kennedy@ascip.org by May 12th. \n  \nAdditional Information:  \nLunch will be provided.
URL:https://webdev.ascip.org/event/workers-compensation-roundtable-so-cal-case-law-and-legislative-updates-2/
LOCATION:ASCIP Training Room\, 16550 Bloomfield Ave\, Cerritos\, 90703
CATEGORIES:Featured,Training
END:VEVENT
END:VCALENDAR