BEGIN:VCALENDAR
VERSION:2.0
PRODID:-//ASCIP - ECPv6.0.13.1//NONSGML v1.0//EN
CALSCALE:GREGORIAN
METHOD:PUBLISH
X-ORIGINAL-URL:https://webdev.ascip.org
X-WR-CALDESC:Events for ASCIP
REFRESH-INTERVAL;VALUE=DURATION:PT1H
X-Robots-Tag:noindex
X-PUBLISHED-TTL:PT1H
BEGIN:VTIMEZONE
TZID:UTC
BEGIN:STANDARD
TZOFFSETFROM:+0000
TZOFFSETTO:+0000
TZNAME:UTC
DTSTART:20140101T000000
END:STANDARD
TZID:America/Los_Angeles
BEGIN:DAYLIGHT
TZOFFSETFROM:-0800
TZOFFSETTO:-0700
TZNAME:PDT
DTSTART:20140309T100000
END:DAYLIGHT
BEGIN:STANDARD
TZOFFSETFROM:-0700
TZOFFSETTO:-0800
TZNAME:PST
DTSTART:20141102T090000
END:STANDARD
END:VTIMEZONE
BEGIN:VEVENT
DTSTART;TZID=UTC:20141029T100000
DTEND;TZID=UTC:20141029T120000
DTSTAMP:20260425T112012
CREATED:20140715T235742Z
LAST-MODIFIED:20140715T235742Z
UID:1014242-1414576800-1414584000@webdev.ascip.org
SUMMARY:Review of New Legislation Impacting Schools and Community Colleges
DESCRIPTION:This year\, ASCIP has partnered with Schools Services of California\, Inc. (SSC) and Schools Excess Liability Fund (SELF) to ensure that you are aware of new codes and regulations having a significant impact on your agency. \nThis webinar will be different from past Codes and Regs Seminars. We will have a lively discussion reviewing fewer bills that will have a direct impact on your organization. During the discussion\, we will dive deeper into the effects of these regulations and implementation strategies to assist you with compliance. \nThose who attend will leave with up-to-date knowledge of the latest education related codes and regulations in the areas of business & finance\, human resources\, student services\, facilities\, health benefits\, and health & safety. \nTo Register for this Webinar: \n REGISTER HERE
URL:https://webdev.ascip.org/event/ascips-annual-codes-regulations-and-compliance-review/
LOCATION:Webinar
CATEGORIES:Featured,Training
END:VEVENT
BEGIN:VEVENT
DTSTART;TZID=America/Los_Angeles:20141029T100000
DTEND;TZID=America/Los_Angeles:20141029T120000
DTSTAMP:20260425T112012
CREATED:20140715T235742Z
LAST-MODIFIED:20140715T235742Z
UID:1265-1414576800-1414584000@webdev.ascip.org
SUMMARY:Review of New Legislation Impacting Schools and Community Colleges
DESCRIPTION:This year\, ASCIP has partnered with Schools Services of California\, Inc. (SSC) and Schools Excess Liability Fund (SELF) to ensure that you are aware of new codes and regulations having a significant impact on your agency. \nThis webinar will be different from past Codes and Regs Seminars. We will have a lively discussion reviewing fewer bills that will have a direct impact on your organization. During the discussion\, we will dive deeper into the effects of these regulations and implementation strategies to assist you with compliance. \nThose who attend will leave with up-to-date knowledge of the latest education related codes and regulations in the areas of business & finance\, human resources\, student services\, facilities\, health benefits\, and health & safety. \nTo Register for this Webinar: \n REGISTER HERE
URL:https://webdev.ascip.org/event/ascips-annual-codes-regulations-and-compliance-review-3/
LOCATION:Webinar
CATEGORIES:Featured,Training
END:VEVENT
END:VCALENDAR