BEGIN:VCALENDAR
VERSION:2.0
PRODID:-//ASCIP - ECPv6.0.13.1//NONSGML v1.0//EN
CALSCALE:GREGORIAN
METHOD:PUBLISH
X-ORIGINAL-URL:https://webdev.ascip.org
X-WR-CALDESC:Events for ASCIP
REFRESH-INTERVAL;VALUE=DURATION:PT1H
X-Robots-Tag:noindex
X-PUBLISHED-TTL:PT1H
BEGIN:VTIMEZONE
TZID:America/Halifax
BEGIN:DAYLIGHT
TZOFFSETFROM:-0400
TZOFFSETTO:-0300
TZNAME:ADT
DTSTART:20180311T060000
END:DAYLIGHT
BEGIN:STANDARD
TZOFFSETFROM:-0300
TZOFFSETTO:-0400
TZNAME:AST
DTSTART:20181104T050000
END:STANDARD
END:VTIMEZONE
BEGIN:VEVENT
DTSTART;TZID=America/Halifax:20180502T100000
DTEND;TZID=America/Halifax:20180502T120000
DTSTAMP:20260419T233401
CREATED:20170828T172228Z
LAST-MODIFIED:20170828T172228Z
UID:5770-1525255200-1525262400@webdev.ascip.org
SUMMARY:Building a School Culture for the Prevention of Inappropriate Conduct of Staff with Students - WEBINAR
DESCRIPTION:A webinar addressing how to build a culture of abuse prevention\, providing insight into the early signs of misconduct\, how to break through the culture of denial\, and how to implement on-going training for administrators and staff.
URL:https://webdev.ascip.org/event/building-a-school-culture-for-the-prevention-of-inappropriate-conduct-of-staff-with-students-webinar-2/
LOCATION:Webinar
CATEGORIES:Featured,Training
END:VEVENT
BEGIN:VEVENT
DTSTART;TZID=America/Halifax:20180502T100000
DTEND;TZID=America/Halifax:20180502T120000
DTSTAMP:20260419T233401
CREATED:20170828T172228Z
LAST-MODIFIED:20170828T172228Z
UID:1014492-1525255200-1525262400@webdev.ascip.org
SUMMARY:Building a School Culture for the Prevention of Inappropriate Conduct of Staff with Students - WEBINAR
DESCRIPTION:A webinar addressing how to build a culture of abuse prevention\, providing insight into the early signs of misconduct\, how to break through the culture of denial\, and how to implement on-going training for administrators and staff.
URL:https://webdev.ascip.org/event/building-a-school-culture-for-the-prevention-of-inappropriate-conduct-of-staff-with-students-webinar/
LOCATION:Webinar
CATEGORIES:Featured,Training
END:VEVENT
BEGIN:VEVENT
DTSTART;TZID=America/Halifax:20180510T113000
DTEND;TZID=America/Halifax:20180510T130000
DTSTAMP:20260419T233401
CREATED:20180412T040129Z
LAST-MODIFIED:20180412T040129Z
UID:1014525-1525951800-1525957200@webdev.ascip.org
SUMMARY:Health Benefits 101
DESCRIPTION:Target Audience: \nHuman Resource Professionals\, Risk Managers\, Payroll and any  personnel who are involved with health benefits. \nTrainer:\n \nPatty Sanders and John Whalley with Marsh & McLennan Insurance Agency LLC \nHow to Register:  \nEmail Kimberly Kennedy at kennedy@ascip.org \nAdditional Information: \nLunch will be provided. \nThis training will cover the basics of employer-level and member-level transactions as well as the major regulatory requirements governing benefits operations.
URL:https://webdev.ascip.org/event/health-benefits-101/
LOCATION:ASCIP Training Room\, 16550 Bloomfield Ave\, Cerritos\, 90703
CATEGORIES:Featured,Training
END:VEVENT
BEGIN:VEVENT
DTSTART;TZID=America/Halifax:20180510T113000
DTEND;TZID=America/Halifax:20180510T130000
DTSTAMP:20260419T233401
CREATED:20180412T040129Z
LAST-MODIFIED:20180412T040129Z
UID:6373-1525951800-1525957200@webdev.ascip.org
SUMMARY:Health Benefits 101
DESCRIPTION:Target Audience: \nHuman Resource Professionals\, Risk Managers\, Payroll and any  personnel who are involved with health benefits. \nTrainer:\n \nPatty Sanders and John Whalley with Marsh & McLennan Insurance Agency LLC \nHow to Register:  \nEmail Kimberly Kennedy at kennedy@ascip.org \nAdditional Information: \nLunch will be provided. \nThis training will cover the basics of employer-level and member-level transactions as well as the major regulatory requirements governing benefits operations.
URL:https://webdev.ascip.org/event/health-benefits-101-2/
LOCATION:ASCIP Training Room\, 16550 Bloomfield Ave\, Cerritos\, 90703
CATEGORIES:Featured,Training
END:VEVENT
BEGIN:VEVENT
DTSTART;TZID=America/Halifax:20180515T093000
DTEND;TZID=America/Halifax:20180515T130000
DTSTAMP:20260419T233401
CREATED:20170828T173122Z
LAST-MODIFIED:20170828T173122Z
UID:5773-1526376600-1526389200@webdev.ascip.org
SUMMARY:Workers’ Compensation Roundtable (So Cal): Ergonomics
DESCRIPTION:The objective of this session is to raise awareness of the workplace risk factors unique to the office setting and provide employees with the knowledge to conduct one on one training assessments.  The training will include an interactive ergonomics awareness and how to conduct an ergonomic assessment. \nTarget Audience: \nWorkers’ Compensation & Human Resources Personnel\, Risk & Safety Managers\, Leadership\, Return to Work Coordinators\, and Business Administrators \n  \nHow to Register:  \nEmail Kimberly Kennedy at kennedy@ascip.org \n  \nAdditional Information:  \nLunch will be provided.
URL:https://webdev.ascip.org/event/workers-compensation-roundtable-so-cal-tbd-3-2/
LOCATION:ASCIP Training Room\, 16550 Bloomfield Ave\, Cerritos\, 90703
CATEGORIES:Featured,Training
END:VEVENT
BEGIN:VEVENT
DTSTART;TZID=America/Halifax:20180515T093000
DTEND;TZID=America/Halifax:20180515T130000
DTSTAMP:20260419T233401
CREATED:20170828T173122Z
LAST-MODIFIED:20170828T173122Z
UID:1014495-1526376600-1526389200@webdev.ascip.org
SUMMARY:Workers’ Compensation Roundtable (So Cal): Ergonomics
DESCRIPTION:The objective of this session is to raise awareness of the workplace risk factors unique to the office setting and provide employees with the knowledge to conduct one on one training assessments.  The training will include an interactive ergonomics awareness and how to conduct an ergonomic assessment. \nTarget Audience: \nWorkers’ Compensation & Human Resources Personnel\, Risk & Safety Managers\, Leadership\, Return to Work Coordinators\, and Business Administrators \n  \nHow to Register:  \nEmail Kimberly Kennedy at kennedy@ascip.org \n  \nAdditional Information:  \nLunch will be provided.
URL:https://webdev.ascip.org/event/workers-compensation-roundtable-so-cal-tbd-3/
LOCATION:ASCIP Training Room\, 16550 Bloomfield Ave\, Cerritos\, 90703
CATEGORIES:Featured,Training
END:VEVENT
END:VCALENDAR