BEGIN:VCALENDAR
VERSION:2.0
PRODID:-//ASCIP - ECPv6.0.13.1//NONSGML v1.0//EN
CALSCALE:GREGORIAN
METHOD:PUBLISH
X-ORIGINAL-URL:https://webdev.ascip.org
X-WR-CALDESC:Events for ASCIP
REFRESH-INTERVAL;VALUE=DURATION:PT1H
X-Robots-Tag:noindex
X-PUBLISHED-TTL:PT1H
BEGIN:VTIMEZONE
TZID:America/Halifax
BEGIN:DAYLIGHT
TZOFFSETFROM:-0400
TZOFFSETTO:-0300
TZNAME:ADT
DTSTART:20170312T060000
END:DAYLIGHT
BEGIN:STANDARD
TZOFFSETFROM:-0300
TZOFFSETTO:-0400
TZNAME:AST
DTSTART:20171105T050000
END:STANDARD
END:VTIMEZONE
BEGIN:VEVENT
DTSTART;TZID=America/Halifax:20171017T090000
DTEND;TZID=America/Halifax:20171017T113000
DTSTAMP:20260420T164830
CREATED:20170825T033333Z
LAST-MODIFIED:20170825T033333Z
UID:5752-1508230800-1508239800@webdev.ascip.org
SUMMARY:De-escalation Techniques in Special Education
DESCRIPTION:A two-hour seminar discussing de-escalation techniques when dealing with special needs students.
URL:https://webdev.ascip.org/event/de-escalation-techniques-in-special-education-webinar-2/
LOCATION:ASCIP Training Room\, 16550 Bloomfield Ave\, Cerritos\, 90703
CATEGORIES:Featured,Training
END:VEVENT
BEGIN:VEVENT
DTSTART;TZID=America/Halifax:20171017T090000
DTEND;TZID=America/Halifax:20171017T113000
DTSTAMP:20260420T164830
CREATED:20170825T033333Z
LAST-MODIFIED:20170825T033333Z
UID:1014483-1508230800-1508239800@webdev.ascip.org
SUMMARY:De-escalation Techniques in Special Education
DESCRIPTION:A two-hour seminar discussing de-escalation techniques when dealing with special needs students.
URL:https://webdev.ascip.org/event/de-escalation-techniques-in-special-education-webinar/
LOCATION:ASCIP Training Room\, 16550 Bloomfield Ave\, Cerritos\, 90703
CATEGORIES:Featured,Training
END:VEVENT
BEGIN:VEVENT
DTSTART;TZID=America/Halifax:20171018T100000
DTEND;TZID=America/Halifax:20171018T120000
DTSTAMP:20260420T164830
CREATED:20170825T033951Z
LAST-MODIFIED:20170825T033951Z
UID:5755-1508320800-1508328000@webdev.ascip.org
SUMMARY:Investigating Allegations of Inappropriate Staff/Student Conduct - WEBINAR
DESCRIPTION:A webinar offering pragmatic insight into all aspects of investigating inappropriate staff/student conduct\, from appropriately responding to the initial allegation\, to coordination with law enforcement\, and communicating with parents\, staff\, school community and media.
URL:https://webdev.ascip.org/event/investigating-allegations-of-inappropriate-staffstudent-conduct-webinar-2/
LOCATION:Webinar
CATEGORIES:Featured,Training
END:VEVENT
BEGIN:VEVENT
DTSTART;TZID=America/Halifax:20171018T100000
DTEND;TZID=America/Halifax:20171018T120000
DTSTAMP:20260420T164830
CREATED:20170825T033951Z
LAST-MODIFIED:20170825T033951Z
UID:1014484-1508320800-1508328000@webdev.ascip.org
SUMMARY:Investigating Allegations of Inappropriate Staff/Student Conduct - WEBINAR
DESCRIPTION:A webinar offering pragmatic insight into all aspects of investigating inappropriate staff/student conduct\, from appropriately responding to the initial allegation\, to coordination with law enforcement\, and communicating with parents\, staff\, school community and media.
URL:https://webdev.ascip.org/event/investigating-allegations-of-inappropriate-staffstudent-conduct-webinar/
LOCATION:Webinar
CATEGORIES:Featured,Training
END:VEVENT
END:VCALENDAR