BEGIN:VCALENDAR
VERSION:2.0
PRODID:-//ASCIP - ECPv6.0.13.1//NONSGML v1.0//EN
CALSCALE:GREGORIAN
METHOD:PUBLISH
X-ORIGINAL-URL:https://webdev.ascip.org
X-WR-CALDESC:Events for ASCIP
REFRESH-INTERVAL;VALUE=DURATION:PT1H
X-Robots-Tag:noindex
X-PUBLISHED-TTL:PT1H
BEGIN:VTIMEZONE
TZID:America/Halifax
BEGIN:DAYLIGHT
TZOFFSETFROM:-0400
TZOFFSETTO:-0300
TZNAME:ADT
DTSTART:20160313T060000
END:DAYLIGHT
BEGIN:STANDARD
TZOFFSETFROM:-0300
TZOFFSETTO:-0400
TZNAME:AST
DTSTART:20161106T050000
END:STANDARD
END:VTIMEZONE
BEGIN:VEVENT
DTSTART;TZID=America/Halifax:20161012T100000
DTEND;TZID=America/Halifax:20161012T120000
DTSTAMP:20260422T011403
CREATED:20160817T164725Z
LAST-MODIFIED:20160817T164725Z
UID:1014412-1476266400-1476273600@webdev.ascip.org
SUMMARY:"Subpoenas" - We've Been Served!  Now What?
DESCRIPTION:This seminar will assist school districts and their employees by addressing legal and practical obligations imposed on a district when served with a subpoena.  The seminar will provide a “hands on” explanation of the what to do when served with a subpoena.
URL:https://webdev.ascip.org/event/subpoenas-weve-been-served-now-what/
LOCATION:ASCIP Training Room\, 16550 Bloomfield Ave\, Cerritos\, 90703
CATEGORIES:Featured,Training
ATTACH;FMTTYPE=:
END:VEVENT
BEGIN:VEVENT
DTSTART;TZID=America/Halifax:20161012T100000
DTEND;TZID=America/Halifax:20161012T120000
DTSTAMP:20260422T011403
CREATED:20160817T164725Z
LAST-MODIFIED:20160817T164725Z
UID:3376-1476266400-1476273600@webdev.ascip.org
SUMMARY:"Subpoenas" - We've Been Served!  Now What?
DESCRIPTION:This seminar will assist school districts and their employees by addressing legal and practical obligations imposed on a district when served with a subpoena.  The seminar will provide a “hands on” explanation of the what to do when served with a subpoena.
URL:https://webdev.ascip.org/event/subpoenas-weve-been-served-now-what-2/
LOCATION:ASCIP Training Room\, 16550 Bloomfield Ave\, Cerritos\, 90703
CATEGORIES:Featured,Training
ATTACH;FMTTYPE=:
END:VEVENT
BEGIN:VEVENT
DTSTART;TZID=America/Halifax:20161028T100000
DTEND;TZID=America/Halifax:20161028T120000
DTSTAMP:20260422T011403
CREATED:20160817T165935Z
LAST-MODIFIED:20160817T165935Z
UID:1014416-1477648800-1477656000@webdev.ascip.org
SUMMARY:ASCIP’s Annual Codes\, Regulations\, and Compliance Review-WEBINAR
DESCRIPTION:
URL:https://webdev.ascip.org/event/ascips-annual-codes-regulations-and-compliance-review-webinar-2/
LOCATION:Webinar
CATEGORIES:Featured,Training
END:VEVENT
BEGIN:VEVENT
DTSTART;TZID=America/Halifax:20161028T100000
DTEND;TZID=America/Halifax:20161028T120000
DTSTAMP:20260422T011403
CREATED:20160817T165935Z
LAST-MODIFIED:20160817T165935Z
UID:3383-1477648800-1477656000@webdev.ascip.org
SUMMARY:ASCIP’s Annual Codes\, Regulations\, and Compliance Review-WEBINAR
DESCRIPTION:
URL:https://webdev.ascip.org/event/ascips-annual-codes-regulations-and-compliance-review-webinar-2-2/
LOCATION:Webinar
CATEGORIES:Featured,Training
END:VEVENT
END:VCALENDAR