BEGIN:VCALENDAR
VERSION:2.0
PRODID:-//ASCIP - ECPv6.0.13.1//NONSGML v1.0//EN
CALSCALE:GREGORIAN
METHOD:PUBLISH
X-ORIGINAL-URL:https://webdev.ascip.org
X-WR-CALDESC:Events for ASCIP
REFRESH-INTERVAL;VALUE=DURATION:PT1H
X-Robots-Tag:noindex
X-PUBLISHED-TTL:PT1H
BEGIN:VTIMEZONE
TZID:America/Los_Angeles
BEGIN:DAYLIGHT
TZOFFSETFROM:-0800
TZOFFSETTO:-0700
TZNAME:PDT
DTSTART:20160313T100000
END:DAYLIGHT
BEGIN:STANDARD
TZOFFSETFROM:-0700
TZOFFSETTO:-0800
TZNAME:PST
DTSTART:20161106T090000
END:STANDARD
END:VTIMEZONE
BEGIN:VEVENT
DTSTART;TZID=America/Los_Angeles:20160126T093000
DTEND;TZID=America/Los_Angeles:20160126T130000
DTSTAMP:20260422T203547
CREATED:20151012T171446Z
LAST-MODIFIED:20151012T171446Z
UID:1014357-1453800600-1453813200@webdev.ascip.org
SUMMARY:Workers’ Compensation Roundtable-Creating a Safe Learning Environment & Life Cycle of a Workers’ Compensation Claim
DESCRIPTION:This workshop will provide information on creating a safe learning environment for students\, staff and the general public.  It takes everyone’s effort to prevent an injury or illness. Additionally\, Claim Professionals will share what occurs after a Workers’ Compensation claim is filed.  This workshop will be followed by open discussion and an allotment of time for Questions & Answers. \nHow to Register:  \nClick on the following link:  Wk Comp Roundtable Registration \nEmail Kimberly Kennedy at kennedy@ascip.org \nAdditional Info: \nLunch will be provided. \n  \n 
URL:https://webdev.ascip.org/event/workers-compensation-roundtable-creating-a-safe-learning-environment-and-life-cycle-of-a-workers-compensation-claim/
LOCATION:ASCIP Training Room\, 16550 Bloomfield Ave\, Cerritos\, 90703
CATEGORIES:Featured,Training
END:VEVENT
BEGIN:VEVENT
DTSTART;TZID=America/Los_Angeles:20160126T093000
DTEND;TZID=America/Los_Angeles:20160126T130000
DTSTAMP:20260422T203547
CREATED:20151012T171446Z
LAST-MODIFIED:20151012T171446Z
UID:2569-1453800600-1453813200@webdev.ascip.org
SUMMARY:Workers’ Compensation Roundtable-Creating a Safe Learning Environment & Life Cycle of a Workers’ Compensation Claim
DESCRIPTION:This workshop will provide information on creating a safe learning environment for students\, staff and the general public.  It takes everyone’s effort to prevent an injury or illness. Additionally\, Claim Professionals will share what occurs after a Workers’ Compensation claim is filed.  This workshop will be followed by open discussion and an allotment of time for Questions & Answers. \nHow to Register:  \nClick on the following link:  Wk Comp Roundtable Registration \nEmail Kimberly Kennedy at kennedy@ascip.org \nAdditional Info: \nLunch will be provided. \n  \n 
URL:https://webdev.ascip.org/event/workers-compensation-roundtable-creating-a-safe-learning-environment-and-life-cycle-of-a-workers-compensation-claim-2/
LOCATION:ASCIP Training Room\, 16550 Bloomfield Ave\, Cerritos\, 90703
CATEGORIES:Featured,Training
END:VEVENT
END:VCALENDAR