BEGIN:VCALENDAR
VERSION:2.0
PRODID:-//ASCIP - ECPv6.0.13.1//NONSGML v1.0//EN
CALSCALE:GREGORIAN
METHOD:PUBLISH
X-ORIGINAL-URL:https://webdev.ascip.org
X-WR-CALDESC:Events for ASCIP
REFRESH-INTERVAL;VALUE=DURATION:PT1H
X-Robots-Tag:noindex
X-PUBLISHED-TTL:PT1H
BEGIN:VTIMEZONE
TZID:UTC
BEGIN:STANDARD
TZOFFSETFROM:+0000
TZOFFSETTO:+0000
TZNAME:UTC
DTSTART:20150101T000000
END:STANDARD
TZID:America/Los_Angeles
BEGIN:DAYLIGHT
TZOFFSETFROM:-0800
TZOFFSETTO:-0700
TZNAME:PDT
DTSTART:20150308T100000
END:DAYLIGHT
BEGIN:STANDARD
TZOFFSETFROM:-0700
TZOFFSETTO:-0800
TZNAME:PST
DTSTART:20151101T090000
END:STANDARD
END:VTIMEZONE
BEGIN:VEVENT
DTSTART;TZID=UTC:20151110T100000
DTEND;TZID=UTC:20151110T120000
DTSTAMP:20260423T153856
CREATED:20151009T223202Z
LAST-MODIFIED:20151009T223202Z
UID:1014350-1447149600-1447156800@webdev.ascip.org
SUMMARY:ASCIP’s Annual Codes\, Regulations\, and Compliance Review - Webinar
DESCRIPTION:ASCIP has partnered with Schools Services of California\, Inc. (SSC) and School Excess Liability Fund (SELF) to provide an update on the new legislative changes which will impact your agency. \nTo register for this event\, click on the link below: \nREGISTER HERE
URL:https://webdev.ascip.org/event/ascips-annual-codes-regulations-and-compliance-review-webinar/
LOCATION:Webinar
CATEGORIES:Featured,Training
END:VEVENT
BEGIN:VEVENT
DTSTART;TZID=America/Los_Angeles:20151110T100000
DTEND;TZID=America/Los_Angeles:20151110T120000
DTSTAMP:20260423T153856
CREATED:20151009T223202Z
LAST-MODIFIED:20151009T223202Z
UID:2558-1447149600-1447156800@webdev.ascip.org
SUMMARY:ASCIP’s Annual Codes\, Regulations\, and Compliance Review - Webinar
DESCRIPTION:ASCIP has partnered with Schools Services of California\, Inc. (SSC) and School Excess Liability Fund (SELF) to provide an update on the new legislative changes which will impact your agency. \nTo register for this event\, click on the link below: \nREGISTER HERE
URL:https://webdev.ascip.org/event/ascips-annual-codes-regulations-and-compliance-review-webinar-7/
LOCATION:Webinar
CATEGORIES:Featured,Training
END:VEVENT
END:VCALENDAR