BEGIN:VCALENDAR
VERSION:2.0
PRODID:-//ASCIP - ECPv6.0.13.1//NONSGML v1.0//EN
CALSCALE:GREGORIAN
METHOD:PUBLISH
X-ORIGINAL-URL:https://webdev.ascip.org
X-WR-CALDESC:Events for ASCIP
REFRESH-INTERVAL;VALUE=DURATION:PT1H
X-Robots-Tag:noindex
X-PUBLISHED-TTL:PT1H
BEGIN:VTIMEZONE
TZID:America/Halifax
BEGIN:DAYLIGHT
TZOFFSETFROM:-0400
TZOFFSETTO:-0300
TZNAME:ADT
DTSTART:20180311T060000
END:DAYLIGHT
BEGIN:STANDARD
TZOFFSETFROM:-0300
TZOFFSETTO:-0400
TZNAME:AST
DTSTART:20181104T050000
END:STANDARD
END:VTIMEZONE
BEGIN:VEVENT
DTSTART;TZID=America/Halifax:20180125T080000
DTEND;TZID=America/Halifax:20180125T093000
DTSTAMP:20260420T081510
CREATED:20170629T070526Z
LAST-MODIFIED:20170629T070526Z
UID:1014456-1516867200-1516872600@webdev.ascip.org
SUMMARY:Claims and Coverage Committee
DESCRIPTION:
URL:https://webdev.ascip.org/event/claimscoverage-committee-25/
LOCATION:ASCIP Board Room
CATEGORIES:Committee Meeting
END:VEVENT
BEGIN:VEVENT
DTSTART;TZID=America/Halifax:20180125T080000
DTEND;TZID=America/Halifax:20180125T093000
DTSTAMP:20260420T081510
CREATED:20170629T070526Z
LAST-MODIFIED:20170629T070526Z
UID:5630-1516867200-1516872600@webdev.ascip.org
SUMMARY:Claims and Coverage Committee
DESCRIPTION:
URL:https://webdev.ascip.org/event/claimscoverage-committee-25-2/
LOCATION:ASCIP Board Room
CATEGORIES:Committee Meeting
END:VEVENT
BEGIN:VEVENT
DTSTART;TZID=America/Halifax:20180125T100000
DTEND;TZID=America/Halifax:20180125T120000
DTSTAMP:20260420T081510
CREATED:20170703T230336Z
LAST-MODIFIED:20170703T230336Z
UID:1014474-1516874400-1516881600@webdev.ascip.org
SUMMARY:Executive Committee
DESCRIPTION:
URL:https://webdev.ascip.org/event/executive-committee-10/
LOCATION:ASCIP Board Room
CATEGORIES:Committee Meeting
END:VEVENT
BEGIN:VEVENT
DTSTART;TZID=America/Halifax:20180125T100000
DTEND;TZID=America/Halifax:20180125T120000
DTSTAMP:20260420T081510
CREATED:20170703T230336Z
LAST-MODIFIED:20170703T230336Z
UID:5655-1516874400-1516881600@webdev.ascip.org
SUMMARY:Executive Committee
DESCRIPTION:
URL:https://webdev.ascip.org/event/executive-committee-10-2/
LOCATION:ASCIP Board Room
CATEGORIES:Committee Meeting
END:VEVENT
END:VCALENDAR