BEGIN:VCALENDAR
VERSION:2.0
PRODID:-//ASCIP - ECPv6.0.13.1//NONSGML v1.0//EN
CALSCALE:GREGORIAN
METHOD:PUBLISH
X-ORIGINAL-URL:https://webdev.ascip.org
X-WR-CALDESC:Events for ASCIP
REFRESH-INTERVAL;VALUE=DURATION:PT1H
X-Robots-Tag:noindex
X-PUBLISHED-TTL:PT1H
BEGIN:VTIMEZONE
TZID:UTC
BEGIN:STANDARD
TZOFFSETFROM:+0000
TZOFFSETTO:+0000
TZNAME:UTC
DTSTART:20160101T000000
END:STANDARD
TZID:America/Los_Angeles
BEGIN:DAYLIGHT
TZOFFSETFROM:-0800
TZOFFSETTO:-0700
TZNAME:PDT
DTSTART:20160313T100000
END:DAYLIGHT
BEGIN:STANDARD
TZOFFSETFROM:-0700
TZOFFSETTO:-0800
TZNAME:PST
DTSTART:20161106T090000
END:STANDARD
END:VTIMEZONE
BEGIN:VEVENT
DTSTART;TZID=UTC:20160518T100000
DTEND;TZID=UTC:20160518T120000
DTSTAMP:20260423T163535
CREATED:20150706T173434Z
LAST-MODIFIED:20150706T173434Z
UID:1014325-1463565600-1463572800@webdev.ascip.org
SUMMARY:Risk Control Committee
DESCRIPTION:
URL:https://webdev.ascip.org/event/risk-control-committee-7/
LOCATION:ASCIP Board Room
CATEGORIES:Committee Meeting
END:VEVENT
BEGIN:VEVENT
DTSTART;TZID=America/Los_Angeles:20160518T100000
DTEND;TZID=America/Los_Angeles:20160518T120000
DTSTAMP:20260423T163535
CREATED:20150706T173434Z
LAST-MODIFIED:20150706T173434Z
UID:2337-1463565600-1463572800@webdev.ascip.org
SUMMARY:Risk Control Committee
DESCRIPTION:
URL:https://webdev.ascip.org/event/risk-control-committee-7-2/
LOCATION:ASCIP Board Room
CATEGORIES:Committee Meeting
END:VEVENT
END:VCALENDAR