BEGIN:VCALENDAR
VERSION:2.0
PRODID:-//ASCIP - ECPv6.0.13.1//NONSGML v1.0//EN
CALSCALE:GREGORIAN
METHOD:PUBLISH
X-ORIGINAL-URL:https://webdev.ascip.org
X-WR-CALDESC:Events for ASCIP
REFRESH-INTERVAL;VALUE=DURATION:PT1H
X-Robots-Tag:noindex
X-PUBLISHED-TTL:PT1H
BEGIN:VTIMEZONE
TZID:UTC
BEGIN:STANDARD
TZOFFSETFROM:+0000
TZOFFSETTO:+0000
TZNAME:UTC
DTSTART:20150101T000000
END:STANDARD
TZID:America/Los_Angeles
BEGIN:DAYLIGHT
TZOFFSETFROM:-0800
TZOFFSETTO:-0700
TZNAME:PDT
DTSTART:20150308T100000
END:DAYLIGHT
BEGIN:STANDARD
TZOFFSETFROM:-0700
TZOFFSETTO:-0800
TZNAME:PST
DTSTART:20151101T090000
END:STANDARD
END:VTIMEZONE
BEGIN:VEVENT
DTSTART;VALUE=DATE:20150910
DTEND;VALUE=DATE:20150911
DTSTAMP:20260424T054453
CREATED:20150630T181127Z
LAST-MODIFIED:20150630T181127Z
UID:1014308-1441843200-1441929599@webdev.ascip.org
SUMMARY:MEETING CANCELLED - Finance/Investment Committee
DESCRIPTION:
URL:https://webdev.ascip.org/event/financeinvestment-committee/
LOCATION:ASCIP Board Room
CATEGORIES:Committee Meeting
END:VEVENT
BEGIN:VEVENT
DTSTART;VALUE=DATE:20150910
DTEND;VALUE=DATE:20150911
DTSTAMP:20260424T054453
CREATED:20150630T181127Z
LAST-MODIFIED:20150630T181127Z
UID:2314-1441843200-1441929599@webdev.ascip.org
SUMMARY:MEETING CANCELLED - Finance/Investment Committee
DESCRIPTION:
URL:https://webdev.ascip.org/event/financeinvestment-committee-13/
LOCATION:ASCIP Board Room
CATEGORIES:Committee Meeting
END:VEVENT
BEGIN:VEVENT
DTSTART;TZID=UTC:20150910T090000
DTEND;TZID=UTC:20150910T103000
DTSTAMP:20260424T054453
CREATED:20150706T173557Z
LAST-MODIFIED:20150706T173557Z
UID:1014326-1441875600-1441881000@webdev.ascip.org
SUMMARY:Health Benefits Committee
DESCRIPTION:
URL:https://webdev.ascip.org/event/health-benefits-committee-2/
LOCATION:ASCIP Board Room
CATEGORIES:Committee Meeting
END:VEVENT
BEGIN:VEVENT
DTSTART;TZID=America/Los_Angeles:20150910T090000
DTEND;TZID=America/Los_Angeles:20150910T103000
DTSTAMP:20260424T054453
CREATED:20150706T173557Z
LAST-MODIFIED:20150706T173557Z
UID:2338-1441875600-1441881000@webdev.ascip.org
SUMMARY:Health Benefits Committee
DESCRIPTION:
URL:https://webdev.ascip.org/event/health-benefits-committee-2-2/
LOCATION:ASCIP Board Room
CATEGORIES:Committee Meeting
END:VEVENT
END:VCALENDAR