BEGIN:VCALENDAR
VERSION:2.0
PRODID:-//ASCIP - ECPv6.0.13.1//NONSGML v1.0//EN
CALSCALE:GREGORIAN
METHOD:PUBLISH
X-ORIGINAL-URL:https://webdev.ascip.org
X-WR-CALDESC:Events for ASCIP
REFRESH-INTERVAL;VALUE=DURATION:PT1H
X-Robots-Tag:noindex
X-PUBLISHED-TTL:PT1H
BEGIN:VTIMEZONE
TZID:UTC
BEGIN:STANDARD
TZOFFSETFROM:+0000
TZOFFSETTO:+0000
TZNAME:UTC
DTSTART:20160101T000000
END:STANDARD
TZID:America/Los_Angeles
BEGIN:DAYLIGHT
TZOFFSETFROM:-0800
TZOFFSETTO:-0700
TZNAME:PDT
DTSTART:20160313T100000
END:DAYLIGHT
BEGIN:STANDARD
TZOFFSETFROM:-0700
TZOFFSETTO:-0800
TZNAME:PST
DTSTART:20161106T090000
END:STANDARD
END:VTIMEZONE
BEGIN:VEVENT
DTSTART;TZID=UTC:20160323T083000
DTEND;TZID=UTC:20160323T100000
DTSTAMP:20260423T145316
CREATED:20150630T182418Z
LAST-MODIFIED:20150630T182418Z
UID:1014318-1458721800-1458727200@webdev.ascip.org
SUMMARY:Claims/Coverage Committee
DESCRIPTION:
URL:https://webdev.ascip.org/event/claimscoverage-committee-9/
LOCATION:ASCIP Board Room
CATEGORIES:Committee Meeting
END:VEVENT
BEGIN:VEVENT
DTSTART;TZID=America/Los_Angeles:20160323T083000
DTEND;TZID=America/Los_Angeles:20160323T100000
DTSTAMP:20260423T145316
CREATED:20150630T182418Z
LAST-MODIFIED:20150630T182418Z
UID:2324-1458721800-1458727200@webdev.ascip.org
SUMMARY:Claims/Coverage Committee
DESCRIPTION:
URL:https://webdev.ascip.org/event/claimscoverage-committee-9-2/
LOCATION:ASCIP Board Room
CATEGORIES:Committee Meeting
END:VEVENT
BEGIN:VEVENT
DTSTART;TZID=UTC:20160323T100000
DTEND;TZID=UTC:20160323T120000
DTSTAMP:20260423T145316
CREATED:20150706T173332Z
LAST-MODIFIED:20150706T173332Z
UID:1014324-1458727200-1458734400@webdev.ascip.org
SUMMARY:Risk Control Committee
DESCRIPTION:
URL:https://webdev.ascip.org/event/risk-control-committee-6/
LOCATION:ASCIP Board Room
CATEGORIES:Committee Meeting
END:VEVENT
BEGIN:VEVENT
DTSTART;TZID=America/Los_Angeles:20160323T100000
DTEND;TZID=America/Los_Angeles:20160323T120000
DTSTAMP:20260423T145316
CREATED:20150706T173332Z
LAST-MODIFIED:20150706T173332Z
UID:2336-1458727200-1458734400@webdev.ascip.org
SUMMARY:Risk Control Committee
DESCRIPTION:
URL:https://webdev.ascip.org/event/risk-control-committee-6-2/
LOCATION:ASCIP Board Room
CATEGORIES:Committee Meeting
END:VEVENT
END:VCALENDAR