BEGIN:VCALENDAR
VERSION:2.0
PRODID:-//ASCIP - ECPv6.0.13.1//NONSGML v1.0//EN
CALSCALE:GREGORIAN
METHOD:PUBLISH
X-ORIGINAL-URL:https://webdev.ascip.org
X-WR-CALDESC:Events for ASCIP
REFRESH-INTERVAL;VALUE=DURATION:PT1H
X-Robots-Tag:noindex
X-PUBLISHED-TTL:PT1H
BEGIN:VTIMEZONE
TZID:UTC
BEGIN:STANDARD
TZOFFSETFROM:+0000
TZOFFSETTO:+0000
TZNAME:UTC
DTSTART:20160101T000000
END:STANDARD
TZID:America/Los_Angeles
BEGIN:DAYLIGHT
TZOFFSETFROM:-0800
TZOFFSETTO:-0700
TZNAME:PDT
DTSTART:20160313T100000
END:DAYLIGHT
BEGIN:STANDARD
TZOFFSETFROM:-0700
TZOFFSETTO:-0800
TZNAME:PST
DTSTART:20161106T090000
END:STANDARD
END:VTIMEZONE
BEGIN:VEVENT
DTSTART;TZID=UTC:20160211T090000
DTEND;TZID=UTC:20160211T103000
DTSTAMP:20260423T163451
CREATED:20150706T173808Z
LAST-MODIFIED:20150706T173808Z
UID:1014328-1455181200-1455186600@webdev.ascip.org
SUMMARY:Health Benefits Committee
DESCRIPTION:
URL:https://webdev.ascip.org/event/health-benefits-committee-4/
LOCATION:ASCIP Board Room
CATEGORIES:Committee Meeting
END:VEVENT
BEGIN:VEVENT
DTSTART;TZID=America/Los_Angeles:20160211T090000
DTEND;TZID=America/Los_Angeles:20160211T103000
DTSTAMP:20260423T163451
CREATED:20150706T173808Z
LAST-MODIFIED:20150706T173808Z
UID:2340-1455181200-1455186600@webdev.ascip.org
SUMMARY:Health Benefits Committee
DESCRIPTION:
URL:https://webdev.ascip.org/event/health-benefits-committee-4-2/
LOCATION:ASCIP Board Room
CATEGORIES:Committee Meeting
END:VEVENT
BEGIN:VEVENT
DTSTART;TZID=America/Los_Angeles:20160211T103000
DTEND;TZID=America/Los_Angeles:20160211T120000
DTSTAMP:20260423T163451
CREATED:20150630T181400Z
LAST-MODIFIED:20150630T181400Z
UID:2316-1455186600-1455192000@webdev.ascip.org
SUMMARY:Finance/Investment Committee
DESCRIPTION:
URL:https://webdev.ascip.org/event/financeinvestment-committee-3-2/
LOCATION:ASCIP Board Room
CATEGORIES:Committee Meeting
END:VEVENT
BEGIN:VEVENT
DTSTART;TZID=UTC:20160211T103000
DTEND;TZID=UTC:20160211T120000
DTSTAMP:20260423T163451
CREATED:20150630T181400Z
LAST-MODIFIED:20150630T181400Z
UID:1014310-1455186600-1455192000@webdev.ascip.org
SUMMARY:Finance/Investment Committee
DESCRIPTION:
URL:https://webdev.ascip.org/event/financeinvestment-committee-3/
LOCATION:ASCIP Board Room
CATEGORIES:Committee Meeting
END:VEVENT
BEGIN:VEVENT
DTSTART;TZID=America/Los_Angeles:20160225T083000
DTEND;TZID=America/Los_Angeles:20160225T100000
DTSTAMP:20260423T163451
CREATED:20150630T182303Z
LAST-MODIFIED:20150630T182303Z
UID:2323-1456389000-1456394400@webdev.ascip.org
SUMMARY:Claims/Coverage Committee
DESCRIPTION:
URL:https://webdev.ascip.org/event/claimscoverage-committee-8-2/
LOCATION:ASCIP Board Room
CATEGORIES:Committee Meeting
END:VEVENT
BEGIN:VEVENT
DTSTART;TZID=UTC:20160225T083000
DTEND;TZID=UTC:20160225T100000
DTSTAMP:20260423T163451
CREATED:20150630T182303Z
LAST-MODIFIED:20150630T182303Z
UID:1014317-1456389000-1456394400@webdev.ascip.org
SUMMARY:Claims/Coverage Committee
DESCRIPTION:
URL:https://webdev.ascip.org/event/claimscoverage-committee-8/
LOCATION:ASCIP Board Room
CATEGORIES:Committee Meeting
END:VEVENT
BEGIN:VEVENT
DTSTART;TZID=America/Los_Angeles:20160225T100000
DTEND;TZID=America/Los_Angeles:20160225T120000
DTSTAMP:20260423T163451
CREATED:20150630T023209Z
LAST-MODIFIED:20150630T023209Z
UID:2309-1456394400-1456401600@webdev.ascip.org
SUMMARY:Executive Committee Meeting
DESCRIPTION:
URL:https://webdev.ascip.org/event/executive-committee-meeting-14-2/
LOCATION:ASCIP Board Room
CATEGORIES:Committee Meeting
END:VEVENT
BEGIN:VEVENT
DTSTART;TZID=UTC:20160225T100000
DTEND;TZID=UTC:20160225T120000
DTSTAMP:20260423T163451
CREATED:20150630T023209Z
LAST-MODIFIED:20150630T023209Z
UID:1014304-1456394400-1456401600@webdev.ascip.org
SUMMARY:Executive Committee Meeting
DESCRIPTION:
URL:https://webdev.ascip.org/event/executive-committee-meeting-14/
LOCATION:ASCIP Board Room
CATEGORIES:Committee Meeting
END:VEVENT
END:VCALENDAR