BEGIN:VCALENDAR
VERSION:2.0
PRODID:-//ASCIP - ECPv6.0.13.1//NONSGML v1.0//EN
CALSCALE:GREGORIAN
METHOD:PUBLISH
X-ORIGINAL-URL:https://webdev.ascip.org
X-WR-CALDESC:Events for ASCIP
REFRESH-INTERVAL;VALUE=DURATION:PT1H
X-Robots-Tag:noindex
X-PUBLISHED-TTL:PT1H
BEGIN:VTIMEZONE
TZID:UTC
BEGIN:STANDARD
TZOFFSETFROM:+0000
TZOFFSETTO:+0000
TZNAME:UTC
DTSTART:20150101T000000
END:STANDARD
TZID:America/Los_Angeles
BEGIN:DAYLIGHT
TZOFFSETFROM:-0800
TZOFFSETTO:-0700
TZNAME:PDT
DTSTART:20150308T100000
END:DAYLIGHT
BEGIN:STANDARD
TZOFFSETFROM:-0700
TZOFFSETTO:-0800
TZNAME:PST
DTSTART:20151101T090000
END:STANDARD
END:VTIMEZONE
BEGIN:VEVENT
DTSTART;TZID=UTC:20151211T083000
DTEND;TZID=UTC:20151211T100000
DTSTAMP:20260423T211644
CREATED:20150630T182052Z
LAST-MODIFIED:20150630T182052Z
UID:1014315-1449822600-1449828000@webdev.ascip.org
SUMMARY:Claims/Coverage Committee
DESCRIPTION:
URL:https://webdev.ascip.org/event/claimscoverage-committee-6/
LOCATION:ASCIP Board Room
CATEGORIES:Committee Meeting
END:VEVENT
BEGIN:VEVENT
DTSTART;TZID=America/Los_Angeles:20151211T083000
DTEND;TZID=America/Los_Angeles:20151211T100000
DTSTAMP:20260423T211644
CREATED:20150630T182052Z
LAST-MODIFIED:20150630T182052Z
UID:2321-1449822600-1449828000@webdev.ascip.org
SUMMARY:Claims/Coverage Committee
DESCRIPTION:
URL:https://webdev.ascip.org/event/claimscoverage-committee-6-2/
LOCATION:ASCIP Board Room
CATEGORIES:Committee Meeting
END:VEVENT
BEGIN:VEVENT
DTSTART;TZID=UTC:20151211T100000
DTEND;TZID=UTC:20151211T120000
DTSTAMP:20260423T211644
CREATED:20150629T174047Z
LAST-MODIFIED:20150629T174047Z
UID:1014302-1449828000-1449835200@webdev.ascip.org
SUMMARY:Executive Committee Meeting
DESCRIPTION:
URL:https://webdev.ascip.org/event/executive-committee-meeting-12/
LOCATION:ASCIP Board Room
CATEGORIES:Committee Meeting
END:VEVENT
BEGIN:VEVENT
DTSTART;TZID=America/Los_Angeles:20151211T100000
DTEND;TZID=America/Los_Angeles:20151211T120000
DTSTAMP:20260423T211644
CREATED:20150629T174047Z
LAST-MODIFIED:20150629T174047Z
UID:2305-1449828000-1449835200@webdev.ascip.org
SUMMARY:Executive Committee Meeting
DESCRIPTION:
URL:https://webdev.ascip.org/event/executive-committee-meeting-12-2/
LOCATION:ASCIP Board Room
CATEGORIES:Committee Meeting
END:VEVENT
END:VCALENDAR