BEGIN:VCALENDAR
VERSION:2.0
PRODID:-//ASCIP - ECPv6.0.13.1//NONSGML v1.0//EN
CALSCALE:GREGORIAN
METHOD:PUBLISH
X-ORIGINAL-URL:https://webdev.ascip.org
X-WR-CALDESC:Events for ASCIP
REFRESH-INTERVAL;VALUE=DURATION:PT1H
X-Robots-Tag:noindex
X-PUBLISHED-TTL:PT1H
BEGIN:VTIMEZONE
TZID:UTC
BEGIN:STANDARD
TZOFFSETFROM:+0000
TZOFFSETTO:+0000
TZNAME:UTC
DTSTART:20150101T000000
END:STANDARD
TZID:America/Los_Angeles
BEGIN:DAYLIGHT
TZOFFSETFROM:-0800
TZOFFSETTO:-0700
TZNAME:PDT
DTSTART:20150308T100000
END:DAYLIGHT
BEGIN:STANDARD
TZOFFSETFROM:-0700
TZOFFSETTO:-0800
TZNAME:PST
DTSTART:20151101T090000
END:STANDARD
END:VTIMEZONE
BEGIN:VEVENT
DTSTART;VALUE=DATE:20150422
DTEND;VALUE=DATE:20150425
DTSTAMP:20260425T063857
CREATED:20140603T173919Z
LAST-MODIFIED:20140603T173919Z
UID:1014228-1429660800-1429919999@webdev.ascip.org
SUMMARY:Strategic Planning Meeting
DESCRIPTION:
URL:https://webdev.ascip.org/event/strategic-planning-meeting-2/
LOCATION:TBD
CATEGORIES:Committee Meeting,Featured
END:VEVENT
BEGIN:VEVENT
DTSTART;VALUE=DATE:20150422
DTEND;VALUE=DATE:20150425
DTSTAMP:20260425T063857
CREATED:20140603T173919Z
LAST-MODIFIED:20140603T173919Z
UID:627-1429660800-1429919999@webdev.ascip.org
SUMMARY:Strategic Planning Meeting
DESCRIPTION:
URL:https://webdev.ascip.org/event/strategic-planning-meeting-2-2/
LOCATION:TBD
CATEGORIES:Committee Meeting,Featured
END:VEVENT
BEGIN:VEVENT
DTSTART;TZID=UTC:20150424T100000
DTEND;TZID=UTC:20150424T100000
DTSTAMP:20260425T063857
CREATED:20140603T173952Z
LAST-MODIFIED:20140603T173952Z
UID:1014229-1429869600-1429869600@webdev.ascip.org
SUMMARY:Executive Committee Meeting
DESCRIPTION:
URL:https://webdev.ascip.org/event/executive-committee-meeting-9/
LOCATION:ASCIP Board Room
CATEGORIES:Committee Meeting
END:VEVENT
BEGIN:VEVENT
DTSTART;TZID=America/Los_Angeles:20150424T100000
DTEND;TZID=America/Los_Angeles:20150424T100000
DTSTAMP:20260425T063857
CREATED:20140603T173952Z
LAST-MODIFIED:20140603T173952Z
UID:629-1429869600-1429869600@webdev.ascip.org
SUMMARY:Executive Committee Meeting
DESCRIPTION:
URL:https://webdev.ascip.org/event/executive-committee-meeting-9-2/
LOCATION:ASCIP Board Room
CATEGORIES:Committee Meeting
END:VEVENT
END:VCALENDAR