BEGIN:VCALENDAR
VERSION:2.0
PRODID:-//ASCIP - ECPv6.0.13.1//NONSGML v1.0//EN
CALSCALE:GREGORIAN
METHOD:PUBLISH
X-ORIGINAL-URL:https://webdev.ascip.org
X-WR-CALDESC:Events for ASCIP
REFRESH-INTERVAL;VALUE=DURATION:PT1H
X-Robots-Tag:noindex
X-PUBLISHED-TTL:PT1H
BEGIN:VTIMEZONE
TZID:America/Halifax
BEGIN:DAYLIGHT
TZOFFSETFROM:-0400
TZOFFSETTO:-0300
TZNAME:ADT
DTSTART:20160313T060000
END:DAYLIGHT
BEGIN:STANDARD
TZOFFSETFROM:-0300
TZOFFSETTO:-0400
TZNAME:AST
DTSTART:20161106T050000
END:STANDARD
END:VTIMEZONE
BEGIN:VEVENT
DTSTART;TZID=America/Halifax:20161018T100000
DTEND;TZID=America/Halifax:20161018T113000
DTSTAMP:20260425T160914
CREATED:20160817T165346Z
LAST-MODIFIED:20160817T165346Z
UID:1014414-1476784800-1476790200@webdev.ascip.org
SUMMARY:SELF Good Schools Webinar - After Disaster Strikes
DESCRIPTION:Whether it is the aftermath of an active shooter incident\, a natural disaster event or any other traumatic situation\, getting the campus back to “normal” is no easy task.  Join us as we explore the best practices behind ensuring operational continuity while also dealing with the hearts and minds of students\, staff and a community that may be traumatized by recent events. \n 
URL:https://webdev.ascip.org/event/self-good-schools-workshop-webinar/
LOCATION:Webinar
CATEGORIES:Training
END:VEVENT
BEGIN:VEVENT
DTSTART;TZID=America/Halifax:20161018T100000
DTEND;TZID=America/Halifax:20161018T113000
DTSTAMP:20260425T160914
CREATED:20160817T165346Z
LAST-MODIFIED:20160817T165346Z
UID:3379-1476784800-1476790200@webdev.ascip.org
SUMMARY:SELF Good Schools Webinar - After Disaster Strikes
DESCRIPTION:Whether it is the aftermath of an active shooter incident\, a natural disaster event or any other traumatic situation\, getting the campus back to “normal” is no easy task.  Join us as we explore the best practices behind ensuring operational continuity while also dealing with the hearts and minds of students\, staff and a community that may be traumatized by recent events. \n 
URL:https://webdev.ascip.org/event/self-good-schools-workshop-webinar-2/
LOCATION:Webinar
CATEGORIES:Training
END:VEVENT
END:VCALENDAR